BEGIN:VCALENDAR
VERSION:2.0
PRODID:-//MassHire Merrimack Valley Career Center - ECPv6.15.20//NONSGML v1.0//EN
CALSCALE:GREGORIAN
METHOD:PUBLISH
X-ORIGINAL-URL:https://masshiremvcc.com
X-WR-CALDESC:Events for MassHire Merrimack Valley Career Center
REFRESH-INTERVAL;VALUE=DURATION:PT1H
X-Robots-Tag:noindex
X-PUBLISHED-TTL:PT1H
BEGIN:VTIMEZONE
TZID:America/New_York
BEGIN:DAYLIGHT
TZOFFSETFROM:-0500
TZOFFSETTO:-0400
TZNAME:EDT
DTSTART:20220313T070000
END:DAYLIGHT
BEGIN:STANDARD
TZOFFSETFROM:-0400
TZOFFSETTO:-0500
TZNAME:EST
DTSTART:20221106T060000
END:STANDARD
BEGIN:DAYLIGHT
TZOFFSETFROM:-0500
TZOFFSETTO:-0400
TZNAME:EDT
DTSTART:20230312T070000
END:DAYLIGHT
BEGIN:STANDARD
TZOFFSETFROM:-0400
TZOFFSETTO:-0500
TZNAME:EST
DTSTART:20231105T060000
END:STANDARD
BEGIN:DAYLIGHT
TZOFFSETFROM:-0500
TZOFFSETTO:-0400
TZNAME:EDT
DTSTART:20240310T070000
END:DAYLIGHT
BEGIN:STANDARD
TZOFFSETFROM:-0400
TZOFFSETTO:-0500
TZNAME:EST
DTSTART:20241103T060000
END:STANDARD
END:VTIMEZONE
BEGIN:VEVENT
DTSTART;TZID=America/New_York:20230905T083000
DTEND;TZID=America/New_York:20230905T100000
DTSTAMP:20260420T052702
CREATED:20230825T202132Z
LAST-MODIFIED:20230825T202132Z
UID:25629-1693902600-1693908000@masshiremvcc.com
SUMMARY:In-Person - Salary Negotiation
DESCRIPTION:Job offers are more than just offers of salary.  They are about the entire compensation package. Learn about salary research sites and evaluating your worth in today’s market. Learn ways to respond to salary questions during interviews\, what to do if you have multiple offers\, and how to navigate and negotiate job offers. All of these components support your strategy and decision-making.
URL:https://masshiremvcc.com/event/in-person-salary-negotiation-3/
CATEGORIES:Workshops
END:VEVENT
BEGIN:VEVENT
DTSTART;TZID=America/New_York:20230905T130000
DTEND;TZID=America/New_York:20230905T143000
DTSTAMP:20260420T052702
CREATED:20230825T195108Z
LAST-MODIFIED:20230825T195108Z
UID:25601-1693918800-1693924200@masshiremvcc.com
SUMMARY:In-Person - Esenciales de una Computadora
DESCRIPTION:Aprenda o agregue sus conocimientos sobre las diferentes categorías de computadoras y las funciones de un ratoncito de computadora. Vea una DEMOSTRACIÓN EN VIVO sobre cómo se abre y se cierra un programa\, dando un nombre a un documento utilizando la función Guardar Como\, también\, Guardar un documento cuando se añada\, Imprimir\, y cómo Insertar y Remover un USB. Requisito: debe tener un correo electrónico válido.
URL:https://masshiremvcc.com/event/in-person-esenciales-de-una-computadora/
CATEGORIES:Workshops
END:VEVENT
END:VCALENDAR