BEGIN:VCALENDAR
VERSION:2.0
PRODID:-//MassHire Merrimack Valley Career Center - ECPv6.15.20//NONSGML v1.0//EN
CALSCALE:GREGORIAN
METHOD:PUBLISH
X-WR-CALNAME:MassHire Merrimack Valley Career Center
X-ORIGINAL-URL:https://masshiremvcc.com
X-WR-CALDESC:Events for MassHire Merrimack Valley Career Center
REFRESH-INTERVAL;VALUE=DURATION:PT1H
X-Robots-Tag:noindex
X-PUBLISHED-TTL:PT1H
BEGIN:VTIMEZONE
TZID:America/New_York
BEGIN:DAYLIGHT
TZOFFSETFROM:-0500
TZOFFSETTO:-0400
TZNAME:EDT
DTSTART:20230312T070000
END:DAYLIGHT
BEGIN:STANDARD
TZOFFSETFROM:-0400
TZOFFSETTO:-0500
TZNAME:EST
DTSTART:20231105T060000
END:STANDARD
BEGIN:DAYLIGHT
TZOFFSETFROM:-0500
TZOFFSETTO:-0400
TZNAME:EDT
DTSTART:20240310T070000
END:DAYLIGHT
BEGIN:STANDARD
TZOFFSETFROM:-0400
TZOFFSETTO:-0500
TZNAME:EST
DTSTART:20241103T060000
END:STANDARD
BEGIN:DAYLIGHT
TZOFFSETFROM:-0500
TZOFFSETTO:-0400
TZNAME:EDT
DTSTART:20250309T070000
END:DAYLIGHT
BEGIN:STANDARD
TZOFFSETFROM:-0400
TZOFFSETTO:-0500
TZNAME:EST
DTSTART:20251102T060000
END:STANDARD
END:VTIMEZONE
BEGIN:VEVENT
DTSTART;TZID=America/New_York:20241107T083000
DTEND;TZID=America/New_York:20241107T100000
DTSTAMP:20260420T144910
CREATED:20241015T143743Z
LAST-MODIFIED:20241015T143743Z
UID:26977-1730968200-1730973600@masshiremvcc.com
SUMMARY:Virtual - Networking Strategies & Skills: Why\, Who\, and How
DESCRIPTION:Research consistently shows that 65-70% of jobs are found through networking. It’s a key strategy for everyone’s job search. Learn the value of networking\, who to network with\, and how to do it in an organized way. We will also focus on the power of a learning mindset to take advantage of in-the-moment\, spontaneous networking opportunities.
URL:https://masshiremvcc.com/event/virtual-networking-strategies-skills-why-who-and-how-35/
CATEGORIES:Workshops
END:VEVENT
BEGIN:VEVENT
DTSTART;TZID=America/New_York:20241107T083000
DTEND;TZID=America/New_York:20241107T100000
DTSTAMP:20260420T144910
CREATED:20241016T195800Z
LAST-MODIFIED:20241030T155734Z
UID:27007-1730968200-1730973600@masshiremvcc.com
SUMMARY:Virtual - Esenciales para una Entrevista
DESCRIPTION:Agregue sus conocimientos en cómo prepararse y presentarse\, colectar información esencial y tener confianza en una entrevista. Requisito: debe tener un correo electrónico válido.
URL:https://masshiremvcc.com/event/virtual-esenciales-para-una-entrevista-24/
CATEGORIES:Workshops
END:VEVENT
BEGIN:VEVENT
DTSTART;TZID=America/New_York:20241107T103000
DTEND;TZID=America/New_York:20241107T120000
DTSTAMP:20260420T144910
CREATED:20241016T190205Z
LAST-MODIFIED:20241030T160332Z
UID:26993-1730975400-1730980800@masshiremvcc.com
SUMMARY:Virtual - Resume Essentials
DESCRIPTION:Get some valuable insight when creating and/or editing your resume. Understand the essential sections to create a focused resume. Prerequisite: Must have a valid email address.
URL:https://masshiremvcc.com/event/virtual-resume-essentials-23/
CATEGORIES:Workshops
END:VEVENT
BEGIN:VEVENT
DTSTART;TZID=America/New_York:20241107T133000
DTEND;TZID=America/New_York:20241107T150000
DTSTAMP:20260420T144910
CREATED:20241016T193334Z
LAST-MODIFIED:20241030T160625Z
UID:27003-1730986200-1730991600@masshiremvcc.com
SUMMARY:Virtual - MS Word Essentials
DESCRIPTION:Get an overview understanding and see a LIVE DEMONSTRATION of some of the functions in the Microsoft Word program. See what the Ribbon is all about\, learn basic formatting\, and changing margins. It does not matter what version you have installed on your computer. Prerequisite: valid email address.
URL:https://masshiremvcc.com/event/virtual-ms-word-essentials-18/
CATEGORIES:Workshops
END:VEVENT
END:VCALENDAR