BEGIN:VCALENDAR
VERSION:2.0
PRODID:-//MassHire Merrimack Valley Career Center - ECPv6.15.20//NONSGML v1.0//EN
CALSCALE:GREGORIAN
METHOD:PUBLISH
X-ORIGINAL-URL:https://masshiremvcc.com
X-WR-CALDESC:Events for MassHire Merrimack Valley Career Center
REFRESH-INTERVAL;VALUE=DURATION:PT1H
X-Robots-Tag:noindex
X-PUBLISHED-TTL:PT1H
BEGIN:VTIMEZONE
TZID:America/New_York
BEGIN:DAYLIGHT
TZOFFSETFROM:-0500
TZOFFSETTO:-0400
TZNAME:EDT
DTSTART:20240310T070000
END:DAYLIGHT
BEGIN:STANDARD
TZOFFSETFROM:-0400
TZOFFSETTO:-0500
TZNAME:EST
DTSTART:20241103T060000
END:STANDARD
BEGIN:DAYLIGHT
TZOFFSETFROM:-0500
TZOFFSETTO:-0400
TZNAME:EDT
DTSTART:20250309T070000
END:DAYLIGHT
BEGIN:STANDARD
TZOFFSETFROM:-0400
TZOFFSETTO:-0500
TZNAME:EST
DTSTART:20251102T060000
END:STANDARD
BEGIN:DAYLIGHT
TZOFFSETFROM:-0500
TZOFFSETTO:-0400
TZNAME:EDT
DTSTART:20260308T070000
END:DAYLIGHT
BEGIN:STANDARD
TZOFFSETFROM:-0400
TZOFFSETTO:-0500
TZNAME:EST
DTSTART:20261101T060000
END:STANDARD
END:VTIMEZONE
BEGIN:VEVENT
DTSTART;TZID=America/New_York:20250214T083000
DTEND;TZID=America/New_York:20250214T100000
DTSTAMP:20260425T102107
CREATED:20250107T204628Z
LAST-MODIFIED:20250117T182348Z
UID:27136-1739521800-1739527200@masshiremvcc.com
SUMMARY:En Persona - Información de Mercado Laboral y Herramientas
DESCRIPTION:Conozca las herramientas de investigación de mercado laboral que pueden guiarlo para tomar decisiones durante su búsqueda de trabajo. Además\, vea una DEMOSTRACIÓN EN VIVO sobre cómo usar uno de las páginas web.
URL:https://masshiremvcc.com/event/en-persona-informacion-de-mercado-laboral-y-herramientas-7/
LOCATION:MA
CATEGORIES:Workshops
END:VEVENT
BEGIN:VEVENT
DTSTART;TZID=America/New_York:20250214T083000
DTEND;TZID=America/New_York:20250214T100000
DTSTAMP:20260425T102107
CREATED:20250107T205137Z
LAST-MODIFIED:20250117T182910Z
UID:27138-1739521800-1739527200@masshiremvcc.com
SUMMARY:In-Person - TORQ
DESCRIPTION:See a LIVE DEMONSTRATION on how this online analytical tool can link your current knowledge\, skills\, and abilities to jobs\, education\, or possibly a new career.
URL:https://masshiremvcc.com/event/in-person-torq-3/
LOCATION:MA
CATEGORIES:Workshops
END:VEVENT
BEGIN:VEVENT
DTSTART;TZID=America/New_York:20250228T103000
DTEND;TZID=America/New_York:20250228T120000
DTSTAMP:20260425T102107
CREATED:20241219T203224Z
LAST-MODIFIED:20241219T203224Z
UID:27111-1740738600-1740744000@masshiremvcc.com
SUMMARY:Virtual - Interview Mastery
DESCRIPTION:If you’ve taken Interview Essentials\, this workshop provides hands-on practice. It’s an opportunity to identify\, review examples of\, practice and get feedback on your responses to interview questions that are typical\, but that many people find challenging. Learn to craft your answers in ways that highlight your skills and knowledge\,and address any problem areas in ways that build confidence in your candidacy.
URL:https://masshiremvcc.com/event/virtual-interview-mastery-6/
LOCATION:MA
CATEGORIES:Workshops
END:VEVENT
BEGIN:VEVENT
DTSTART;TZID=America/New_York:20250228T133000
DTEND;TZID=America/New_York:20250228T150000
DTSTAMP:20260425T102107
CREATED:20241219T203005Z
LAST-MODIFIED:20241219T203102Z
UID:27110-1740749400-1740754800@masshiremvcc.com
SUMMARY:Virtual - Behavioral Interview Questions: Telling Your Story
DESCRIPTION:Behavioral interview questions require you to communicate specific\, concrete examples instead of general responses. These examples are stories that demonstrate your skills for the key responsibilities of the position. We will introduce a framework to develop your stories\, share examples for job-specific skills and for soft skills\, and provide time for writing practice and feedback.
URL:https://masshiremvcc.com/event/virtual-behavioral-interview-questions-telling-your-story-35/
LOCATION:MA
CATEGORIES:Workshops
END:VEVENT
END:VCALENDAR