BEGIN:VCALENDAR
VERSION:2.0
PRODID:-//MassHire Merrimack Valley Career Center - ECPv6.15.20//NONSGML v1.0//EN
CALSCALE:GREGORIAN
METHOD:PUBLISH
X-WR-CALNAME:MassHire Merrimack Valley Career Center
X-ORIGINAL-URL:https://masshiremvcc.com
X-WR-CALDESC:Events for MassHire Merrimack Valley Career Center
REFRESH-INTERVAL;VALUE=DURATION:PT1H
X-Robots-Tag:noindex
X-PUBLISHED-TTL:PT1H
BEGIN:VTIMEZONE
TZID:America/New_York
BEGIN:DAYLIGHT
TZOFFSETFROM:-0500
TZOFFSETTO:-0400
TZNAME:EDT
DTSTART:20230312T070000
END:DAYLIGHT
BEGIN:STANDARD
TZOFFSETFROM:-0400
TZOFFSETTO:-0500
TZNAME:EST
DTSTART:20231105T060000
END:STANDARD
BEGIN:DAYLIGHT
TZOFFSETFROM:-0500
TZOFFSETTO:-0400
TZNAME:EDT
DTSTART:20240310T070000
END:DAYLIGHT
BEGIN:STANDARD
TZOFFSETFROM:-0400
TZOFFSETTO:-0500
TZNAME:EST
DTSTART:20241103T060000
END:STANDARD
BEGIN:DAYLIGHT
TZOFFSETFROM:-0500
TZOFFSETTO:-0400
TZNAME:EDT
DTSTART:20250309T070000
END:DAYLIGHT
BEGIN:STANDARD
TZOFFSETFROM:-0400
TZOFFSETTO:-0500
TZNAME:EST
DTSTART:20251102T060000
END:STANDARD
END:VTIMEZONE
BEGIN:VEVENT
DTSTART;TZID=America/New_York:20240814T160000
DTEND;TZID=America/New_York:20240814T180000
DTSTAMP:20260421T035029
CREATED:20240709T140051Z
LAST-MODIFIED:20240802T181656Z
UID:26835-1723651200-1723658400@masshiremvcc.com
SUMMARY:Evening Job Fair! 4-6pm
DESCRIPTION:Click Here to Pre-Register!
URL:https://masshiremvcc.com/event/evening-job-fair-4-6pm/
LOCATION:NECC Dimitry Building\, 45 Franklin Street\, Lawrence\, MA\, 01840\, United States
CATEGORIES:Job Fairs & Recruitments,Lawrence Center Event
END:VEVENT
END:VCALENDAR