BEGIN:VCALENDAR
VERSION:2.0
PRODID:-//MassHire Merrimack Valley Career Center - ECPv6.15.20//NONSGML v1.0//EN
CALSCALE:GREGORIAN
METHOD:PUBLISH
X-WR-CALNAME:MassHire Merrimack Valley Career Center
X-ORIGINAL-URL:https://masshiremvcc.com
X-WR-CALDESC:Events for MassHire Merrimack Valley Career Center
REFRESH-INTERVAL;VALUE=DURATION:PT1H
X-Robots-Tag:noindex
X-PUBLISHED-TTL:PT1H
BEGIN:VTIMEZONE
TZID:America/New_York
BEGIN:DAYLIGHT
TZOFFSETFROM:-0500
TZOFFSETTO:-0400
TZNAME:EDT
DTSTART:20180311T070000
END:DAYLIGHT
BEGIN:STANDARD
TZOFFSETFROM:-0400
TZOFFSETTO:-0500
TZNAME:EST
DTSTART:20181104T060000
END:STANDARD
BEGIN:DAYLIGHT
TZOFFSETFROM:-0500
TZOFFSETTO:-0400
TZNAME:EDT
DTSTART:20190310T070000
END:DAYLIGHT
BEGIN:STANDARD
TZOFFSETFROM:-0400
TZOFFSETTO:-0500
TZNAME:EST
DTSTART:20191103T060000
END:STANDARD
BEGIN:DAYLIGHT
TZOFFSETFROM:-0500
TZOFFSETTO:-0400
TZNAME:EDT
DTSTART:20200308T070000
END:DAYLIGHT
BEGIN:STANDARD
TZOFFSETFROM:-0400
TZOFFSETTO:-0500
TZNAME:EST
DTSTART:20201101T060000
END:STANDARD
END:VTIMEZONE
BEGIN:VEVENT
DTSTART;TZID=America/New_York:20190221T110000
DTEND;TZID=America/New_York:20190221T130000
DTSTAMP:20260419T160502
CREATED:20190124T195518Z
LAST-MODIFIED:20190130T201909Z
UID:16446-1550746800-1550754000@masshiremvcc.com
SUMMARY:Mecanografía con Mavis Beacon
DESCRIPTION:Taller en Español. Aprenda o mejore sus habilidades usando un teclado con este programa
URL:https://masshiremvcc.com/event/mecanografia-con-mavis-beacon-en-espanol-3/
LOCATION:Lawrence Career Center\, 420 Common Street\, Lawrence\, MA\, 01840\, United States
CATEGORIES:Lawrence Center Event,Workshops
END:VEVENT
BEGIN:VEVENT
DTSTART;TZID=America/New_York:20190221T140000
DTEND;TZID=America/New_York:20190221T160000
DTSTAMP:20260419T160502
CREATED:20190124T210311Z
LAST-MODIFIED:20190130T203309Z
UID:16483-1550757600-1550764800@masshiremvcc.com
SUMMARY:Self-Paced Learning Services (SPLS)
DESCRIPTION:Want to learn at your own pace? Then this workshop is for you. We have various programs that are essential in today’s workplace. Learn a new language (Spanish or English)\, learn how to type\, learn how to type a resume\, practice HiSet (formally GED) or how to use Microsoft programs such as Word\, Excel\, PowerPoint\, QuickBooks\, Photoshop and much more. Ask the SPLS Monitor about the MS Certificate of Completion Program.
URL:https://masshiremvcc.com/event/self-paced-learning-services-spls-15/
LOCATION:Lawrence Career Center\, 420 Common Street\, Lawrence\, MA\, 01840\, United States
CATEGORIES:Lawrence Center Event,Workshops
END:VEVENT
END:VCALENDAR