BEGIN:VCALENDAR
VERSION:2.0
PRODID:-//MassHire Merrimack Valley Career Center - ECPv6.15.20//NONSGML v1.0//EN
CALSCALE:GREGORIAN
METHOD:PUBLISH
X-ORIGINAL-URL:https://masshiremvcc.com
X-WR-CALDESC:Events for MassHire Merrimack Valley Career Center
REFRESH-INTERVAL;VALUE=DURATION:PT1H
X-Robots-Tag:noindex
X-PUBLISHED-TTL:PT1H
BEGIN:VTIMEZONE
TZID:America/New_York
BEGIN:DAYLIGHT
TZOFFSETFROM:-0500
TZOFFSETTO:-0400
TZNAME:EDT
DTSTART:20190310T070000
END:DAYLIGHT
BEGIN:STANDARD
TZOFFSETFROM:-0400
TZOFFSETTO:-0500
TZNAME:EST
DTSTART:20191103T060000
END:STANDARD
BEGIN:DAYLIGHT
TZOFFSETFROM:-0500
TZOFFSETTO:-0400
TZNAME:EDT
DTSTART:20200308T070000
END:DAYLIGHT
BEGIN:STANDARD
TZOFFSETFROM:-0400
TZOFFSETTO:-0500
TZNAME:EST
DTSTART:20201101T060000
END:STANDARD
BEGIN:DAYLIGHT
TZOFFSETFROM:-0500
TZOFFSETTO:-0400
TZNAME:EDT
DTSTART:20210314T070000
END:DAYLIGHT
BEGIN:STANDARD
TZOFFSETFROM:-0400
TZOFFSETTO:-0500
TZNAME:EST
DTSTART:20211107T060000
END:STANDARD
END:VTIMEZONE
BEGIN:VEVENT
DTSTART;TZID=America/New_York:20200206T103000
DTEND;TZID=America/New_York:20200206T123000
DTSTAMP:20260420T033105
CREATED:20200131T175313Z
LAST-MODIFIED:20200131T184030Z
UID:18719-1580985000-1580992200@masshiremvcc.com
SUMMARY:Introduccion a las Computadoras
DESCRIPTION:Conozca las diferentes clases de computadoras y sus funciones basicas. Practique como utilizar un raton y teclado\, abrir y cerrar un programa\, guardar y grabar un documento\, insertar y remover un USB y aprender algunas de las terminologias utilizadas en la industria de la tecnologia.
URL:https://masshiremvcc.com/event/introduccion-a-las-computadoras-39/
LOCATION:Lawrence Career Center\, 420 Common Street\, Lawrence\, MA\, 01840\, United States
CATEGORIES:Lawrence Center Event,Workshops
END:VEVENT
END:VCALENDAR