BEGIN:VCALENDAR
VERSION:2.0
PRODID:-//MassHire Merrimack Valley Career Center - ECPv6.15.20//NONSGML v1.0//EN
CALSCALE:GREGORIAN
METHOD:PUBLISH
X-WR-CALNAME:MassHire Merrimack Valley Career Center
X-ORIGINAL-URL:https://masshiremvcc.com
X-WR-CALDESC:Events for MassHire Merrimack Valley Career Center
REFRESH-INTERVAL;VALUE=DURATION:PT1H
X-Robots-Tag:noindex
X-PUBLISHED-TTL:PT1H
BEGIN:VTIMEZONE
TZID:America/New_York
BEGIN:DAYLIGHT
TZOFFSETFROM:-0500
TZOFFSETTO:-0400
TZNAME:EDT
DTSTART:20220313T070000
END:DAYLIGHT
BEGIN:STANDARD
TZOFFSETFROM:-0400
TZOFFSETTO:-0500
TZNAME:EST
DTSTART:20221106T060000
END:STANDARD
BEGIN:DAYLIGHT
TZOFFSETFROM:-0500
TZOFFSETTO:-0400
TZNAME:EDT
DTSTART:20230312T070000
END:DAYLIGHT
BEGIN:STANDARD
TZOFFSETFROM:-0400
TZOFFSETTO:-0500
TZNAME:EST
DTSTART:20231105T060000
END:STANDARD
BEGIN:DAYLIGHT
TZOFFSETFROM:-0500
TZOFFSETTO:-0400
TZNAME:EDT
DTSTART:20240310T070000
END:DAYLIGHT
BEGIN:STANDARD
TZOFFSETFROM:-0400
TZOFFSETTO:-0500
TZNAME:EST
DTSTART:20241103T060000
END:STANDARD
END:VTIMEZONE
BEGIN:VEVENT
DTSTART;TZID=America/New_York:20230913T120000
DTEND;TZID=America/New_York:20230913T130000
DTSTAMP:20260420T002955
CREATED:20230830T144914Z
LAST-MODIFIED:20230830T144914Z
UID:25650-1694606400-1694610000@masshiremvcc.com
SUMMARY:Educational Job Recruitment
DESCRIPTION:  \nRegister for Event \n  \n 
URL:https://masshiremvcc.com/event/educational-job-recruitment/
LOCATION:El-Hefni Allied Health and Technology Center\, 414 Common Street\, Lawrence\, MA\, 01840\, United States
CATEGORIES:Lawrence Center Event
END:VEVENT
END:VCALENDAR