BEGIN:VCALENDAR
VERSION:2.0
PRODID:-//MassHire Merrimack Valley Career Center - ECPv6.15.20//NONSGML v1.0//EN
CALSCALE:GREGORIAN
METHOD:PUBLISH
X-WR-CALNAME:MassHire Merrimack Valley Career Center
X-ORIGINAL-URL:https://masshiremvcc.com
X-WR-CALDESC:Events for MassHire Merrimack Valley Career Center
REFRESH-INTERVAL;VALUE=DURATION:PT1H
X-Robots-Tag:noindex
X-PUBLISHED-TTL:PT1H
BEGIN:VTIMEZONE
TZID:America/New_York
BEGIN:DAYLIGHT
TZOFFSETFROM:-0500
TZOFFSETTO:-0400
TZNAME:EDT
DTSTART:20220313T070000
END:DAYLIGHT
BEGIN:STANDARD
TZOFFSETFROM:-0400
TZOFFSETTO:-0500
TZNAME:EST
DTSTART:20221106T060000
END:STANDARD
BEGIN:DAYLIGHT
TZOFFSETFROM:-0500
TZOFFSETTO:-0400
TZNAME:EDT
DTSTART:20230312T070000
END:DAYLIGHT
BEGIN:STANDARD
TZOFFSETFROM:-0400
TZOFFSETTO:-0500
TZNAME:EST
DTSTART:20231105T060000
END:STANDARD
BEGIN:DAYLIGHT
TZOFFSETFROM:-0500
TZOFFSETTO:-0400
TZNAME:EDT
DTSTART:20240310T070000
END:DAYLIGHT
BEGIN:STANDARD
TZOFFSETFROM:-0400
TZOFFSETTO:-0500
TZNAME:EST
DTSTART:20241103T060000
END:STANDARD
END:VTIMEZONE
BEGIN:VEVENT
DTSTART;TZID=America/New_York:20231013T083000
DTEND;TZID=America/New_York:20231013T100000
DTSTAMP:20260421T143404
CREATED:20231004T125637Z
LAST-MODIFIED:20231004T125637Z
UID:25779-1697185800-1697191200@masshiremvcc.com
SUMMARY:Virtual – Marketing Your Maturity
DESCRIPTION:Often older workers anticipate age bias and discrimination. This workshop focuses on three key components: the value older workers bring to any organization\, how to show that age-related stereotypes don’t describe you\, and strategies for addressing and overcoming age bias.
URL:https://masshiremvcc.com/event/virtual-marketing-your-maturity-15/
CATEGORIES:Haverhill Center Event,Lawrence Center Event,Workshops
END:VEVENT
BEGIN:VEVENT
DTSTART;TZID=America/New_York:20231013T083000
DTEND;TZID=America/New_York:20231013T100000
DTSTAMP:20260421T143404
CREATED:20231010T193048Z
LAST-MODIFIED:20231010T193330Z
UID:25835-1697185800-1697191200@masshiremvcc.com
SUMMARY:In-Person- Información de Mercado Laboral y Herramientas
DESCRIPTION:Conozca las herramientas de investigación de mercado laboral que pueden guiarlo para tomar decisiones durante su búsqueda de trabajo. Además\, vea una DEMOSTRACIÓN EN VIVO sobre cómo usar uno de las páginas web.
URL:https://masshiremvcc.com/event/in-person-informacion-de-mercado-laboral-y-herramientas-2/
CATEGORIES:Lawrence Center Event,Workshops
END:VEVENT
BEGIN:VEVENT
DTSTART;TZID=America/New_York:20231013T103000
DTEND;TZID=America/New_York:20231013T120000
DTSTAMP:20260421T143404
CREATED:20231004T125823Z
LAST-MODIFIED:20231004T125823Z
UID:25781-1697193000-1697198400@masshiremvcc.com
SUMMARY:Virtual - Conducting Research for Your Resume\, Cover Letter\, and Interview
DESCRIPTION:Job seekers should be customizing their resume and cover letter for each different job they are applying to. Potential candidates should be preparing for each individual interview they are invited to. The common thread between each of these activities is RESEARCH. You need to research the role\, the company\, the company’s products/services and website\, their financials\, their competitors\, etc. This workshop will teach to what you will need to research and how you can easily gather this research information.
URL:https://masshiremvcc.com/event/virtual-conducting-research-for-your-resume-cover-letter-and-interview-14/
CATEGORIES:Haverhill Center Event,Lawrence Center Event,Workshops
END:VEVENT
BEGIN:VEVENT
DTSTART;TZID=America/New_York:20231013T133000
DTEND;TZID=America/New_York:20231013T150000
DTSTAMP:20260421T143404
CREATED:20231004T125943Z
LAST-MODIFIED:20231004T130538Z
UID:25783-1697203800-1697209200@masshiremvcc.com
SUMMARY:Virtual - LinkedIn Essentials
DESCRIPTION:See a LIVE DEMONSTRATION as we go over a basic overview of what LinkedIn is\, how to use it\, and why this phenomenal social media platform is so widely used for job searching and networking. Prerequisite: valid email address.
URL:https://masshiremvcc.com/event/virtual-linkedin-essentials-18/
CATEGORIES:Haverhill Center Event,Lawrence Center Event,Workshops
END:VEVENT
BEGIN:VEVENT
DTSTART;TZID=America/New_York:20231013T133000
DTEND;TZID=America/New_York:20231013T150000
DTSTAMP:20260421T143404
CREATED:20231010T192907Z
LAST-MODIFIED:20231010T192921Z
UID:25832-1697203800-1697209200@masshiremvcc.com
SUMMARY:In-Person - Esenciales de una Computadora
DESCRIPTION:Aprenda o agregue sus conocimientos sobre las diferentes categorías de computadoras y las funciones de un ratoncito de computadora. Vea una DEMOSTRACIÓN EN VIVO sobre cómo se abre y se cierra un programa\, dando un nombre a un documento utilizando la función Guardar Como\, también\, Guardar un documento cuando se añada\, Imprimir\, y cómo Insertar y Remover un USB. Requisito: debe tener un correo electrónico válido.
URL:https://masshiremvcc.com/event/in-person-esenciales-de-una-computadora-3/
CATEGORIES:Lawrence Center Event,Workshops
END:VEVENT
END:VCALENDAR