BEGIN:VCALENDAR
VERSION:2.0
PRODID:-//MassHire Merrimack Valley Career Center - ECPv6.15.20//NONSGML v1.0//EN
CALSCALE:GREGORIAN
METHOD:PUBLISH
X-WR-CALNAME:MassHire Merrimack Valley Career Center
X-ORIGINAL-URL:https://masshiremvcc.com
X-WR-CALDESC:Events for MassHire Merrimack Valley Career Center
REFRESH-INTERVAL;VALUE=DURATION:PT1H
X-Robots-Tag:noindex
X-PUBLISHED-TTL:PT1H
BEGIN:VTIMEZONE
TZID:America/New_York
BEGIN:DAYLIGHT
TZOFFSETFROM:-0500
TZOFFSETTO:-0400
TZNAME:EDT
DTSTART:20240310T070000
END:DAYLIGHT
BEGIN:STANDARD
TZOFFSETFROM:-0400
TZOFFSETTO:-0500
TZNAME:EST
DTSTART:20241103T060000
END:STANDARD
BEGIN:DAYLIGHT
TZOFFSETFROM:-0500
TZOFFSETTO:-0400
TZNAME:EDT
DTSTART:20250309T070000
END:DAYLIGHT
BEGIN:STANDARD
TZOFFSETFROM:-0400
TZOFFSETTO:-0500
TZNAME:EST
DTSTART:20251102T060000
END:STANDARD
BEGIN:DAYLIGHT
TZOFFSETFROM:-0500
TZOFFSETTO:-0400
TZNAME:EDT
DTSTART:20260308T070000
END:DAYLIGHT
BEGIN:STANDARD
TZOFFSETFROM:-0400
TZOFFSETTO:-0500
TZNAME:EST
DTSTART:20261101T060000
END:STANDARD
END:VTIMEZONE
BEGIN:VEVENT
DTSTART;TZID=America/New_York:20250409T100000
DTEND;TZID=America/New_York:20250409T113000
DTSTAMP:20260419T092733
CREATED:20250326T140814Z
LAST-MODIFIED:20250326T141250Z
UID:27229-1744192800-1744198200@masshiremvcc.com
SUMMARY:Virtual – Behavioral Interview Questions: Telling Your Story
DESCRIPTION:Behavioral interview questions require you to communicate specific\, concrete examples instead of general responses. These examples are stories that demonstrate your skills for the key responsibilities of the position. We will introduce a framework to develop your stories\, share examples for job-specific skills and for soft skills\, and provide time for writing practice and feedback.
URL:https://masshiremvcc.com/event/virtual-behavioral-interview-questions-telling-your-story-37/
LOCATION:Zoom Video Conference
CATEGORIES:Workshops
END:VEVENT
BEGIN:VEVENT
DTSTART;TZID=America/New_York:20250410T083000
DTEND;TZID=America/New_York:20250410T100000
DTSTAMP:20260419T092733
CREATED:20250326T145030Z
LAST-MODIFIED:20250326T145030Z
UID:27233-1744273800-1744279200@masshiremvcc.com
SUMMARY:Virtual – Resume Essentials
DESCRIPTION:Get some valuable insight when creating and/or editing your resume. Understand the essential sections to create a focused resume. Prerequisite: Must have a valid email address.
URL:https://masshiremvcc.com/event/virtual-resume-essentials-25/
LOCATION:Zoom Video Conference
CATEGORIES:Workshops
END:VEVENT
BEGIN:VEVENT
DTSTART;TZID=America/New_York:20250410T083000
DTEND;TZID=America/New_York:20250410T100000
DTSTAMP:20260419T092733
CREATED:20250326T151722Z
LAST-MODIFIED:20250326T151722Z
UID:27235-1744273800-1744279200@masshiremvcc.com
SUMMARY:En-Persona – Esenciales para un Currículum
DESCRIPTION:Obtenga información valiosa al crear y / o editar su currículo. Comprenda las secciones esenciales para crear un currículo enfocado. Requisito: debe tener un correo electrónico válido.
URL:https://masshiremvcc.com/event/en-persona-esenciales-para-un-curriculum-6/
LOCATION:Lawrence Career Center\, 420 Common Street\, Lawrence\, MA\, 01840\, United States
CATEGORIES:Lawrence Center Event,Workshops
END:VEVENT
BEGIN:VEVENT
DTSTART;TZID=America/New_York:20250411T083000
DTEND;TZID=America/New_York:20250411T100000
DTSTAMP:20260419T092733
CREATED:20250326T142000Z
LAST-MODIFIED:20250326T142000Z
UID:27231-1744360200-1744365600@masshiremvcc.com
SUMMARY:Virtual – LinkedIn Essentials
DESCRIPTION:See a LIVE DEMONSTRATION as we go over a basic overview of what LinkedIn is\, how to use it\, and why this phenomenal social media platform is so widely used for job searching and networking. Prerequisite: valid email address.
URL:https://masshiremvcc.com/event/virtual-linkedin-essentials-30/
LOCATION:Zoom Video Conference
CATEGORIES:Workshops
END:VEVENT
BEGIN:VEVENT
DTSTART;TZID=America/New_York:20250423T100000
DTEND;TZID=America/New_York:20250423T113000
DTSTAMP:20260419T092733
CREATED:20250326T141154Z
LAST-MODIFIED:20250326T141154Z
UID:27230-1745402400-1745407800@masshiremvcc.com
SUMMARY:Virtual – Behavioral Interview Questions: Telling Your Story
DESCRIPTION:Behavioral interview questions require you to communicate specific\, concrete examples instead of general responses. These examples are stories that demonstrate your skills for the key responsibilities of the position. We will introduce a framework to develop your stories\, share examples for job-specific skills and for soft skills\, and provide time for writing practice and feedback.
URL:https://masshiremvcc.com/event/virtual-behavioral-interview-questions-telling-your-story-38/
LOCATION:Zoom Video Conference
CATEGORIES:Workshops
END:VEVENT
BEGIN:VEVENT
DTSTART;TZID=America/New_York:20250424T083000
DTEND;TZID=America/New_York:20250424T100000
DTSTAMP:20260419T092733
CREATED:20250326T150219Z
LAST-MODIFIED:20250326T150219Z
UID:27234-1745483400-1745488800@masshiremvcc.com
SUMMARY:Virtual – Resume Essentials
DESCRIPTION:Get some valuable insight when creating and/or editing your resume. Understand the essential sections to create a focused resume. Prerequisite: Must have a valid email address.
URL:https://masshiremvcc.com/event/virtual-resume-essentials-26/
LOCATION:Zoom Video Conference
CATEGORIES:Workshops
END:VEVENT
BEGIN:VEVENT
DTSTART;TZID=America/New_York:20250425T083000
DTEND;TZID=America/New_York:20250425T100000
DTSTAMP:20260419T092733
CREATED:20250326T143706Z
LAST-MODIFIED:20250326T143706Z
UID:27232-1745569800-1745575200@masshiremvcc.com
SUMMARY:Virtual – LinkedIn Essentials
DESCRIPTION:See a LIVE DEMONSTRATION as we go over a basic overview of what LinkedIn is\, how to use it\, and why this phenomenal social media platform is so widely used for job searching and networking. Prerequisite: valid email address.
URL:https://masshiremvcc.com/event/virtual-linkedin-essentials-31/
LOCATION:Zoom Video Conference
CATEGORIES:Workshops
END:VEVENT
END:VCALENDAR