BEGIN:VCALENDAR
VERSION:2.0
PRODID:-//MassHire Merrimack Valley Career Center - ECPv6.15.20//NONSGML v1.0//EN
CALSCALE:GREGORIAN
METHOD:PUBLISH
X-ORIGINAL-URL:https://masshiremvcc.com
X-WR-CALDESC:Events for MassHire Merrimack Valley Career Center
REFRESH-INTERVAL;VALUE=DURATION:PT1H
X-Robots-Tag:noindex
X-PUBLISHED-TTL:PT1H
BEGIN:VTIMEZONE
TZID:America/New_York
BEGIN:DAYLIGHT
TZOFFSETFROM:-0500
TZOFFSETTO:-0400
TZNAME:EDT
DTSTART:20170312T070000
END:DAYLIGHT
BEGIN:STANDARD
TZOFFSETFROM:-0400
TZOFFSETTO:-0500
TZNAME:EST
DTSTART:20171105T060000
END:STANDARD
BEGIN:DAYLIGHT
TZOFFSETFROM:-0500
TZOFFSETTO:-0400
TZNAME:EDT
DTSTART:20180311T070000
END:DAYLIGHT
BEGIN:STANDARD
TZOFFSETFROM:-0400
TZOFFSETTO:-0500
TZNAME:EST
DTSTART:20181104T060000
END:STANDARD
BEGIN:DAYLIGHT
TZOFFSETFROM:-0500
TZOFFSETTO:-0400
TZNAME:EDT
DTSTART:20190310T070000
END:DAYLIGHT
BEGIN:STANDARD
TZOFFSETFROM:-0400
TZOFFSETTO:-0500
TZNAME:EST
DTSTART:20191103T060000
END:STANDARD
END:VTIMEZONE
BEGIN:VEVENT
DTSTART;TZID=America/New_York:20181206T093000
DTEND;TZID=America/New_York:20181206T113000
DTSTAMP:20260420T040832
CREATED:20181128T145420Z
LAST-MODIFIED:20181128T145420Z
UID:15954-1544088600-1544095800@masshiremvcc.com
SUMMARY:Mastering Phone Interviews
DESCRIPTION:Phone screens are your first test with a potential employer. Pass that test with flying colors! \n 
URL:https://masshiremvcc.com/event/mastering-phone-interviews-2/
LOCATION:Lawrence Career Center\, 420 Common Street\, Lawrence\, MA\, 01840\, United States
CATEGORIES:Lawrence Center Event,Workshops
END:VEVENT
BEGIN:VEVENT
DTSTART;TZID=America/New_York:20181206T100000
DTEND;TZID=America/New_York:20181206T120000
DTSTAMP:20260420T040832
CREATED:20181128T150344Z
LAST-MODIFIED:20181129T211255Z
UID:15958-1544090400-1544097600@masshiremvcc.com
SUMMARY:Resume Write It Right (SP) = Spanish
DESCRIPTION:Escribir un Currículo Correcto (Resume Write It Right): Reúna toda la información que se necesita para crear un currículo. Obtenga información valiosa al crear y/o editar su currículo. \n 
URL:https://masshiremvcc.com/event/resume-write-it-right-3/
LOCATION:Lawrence Career Center\, 420 Common Street\, Lawrence\, MA\, 01840\, United States
CATEGORIES:Lawrence Center Event,Workshops
END:VEVENT
BEGIN:VEVENT
DTSTART;TZID=America/New_York:20181206T130000
DTEND;TZID=America/New_York:20181206T150000
DTSTAMP:20260420T040832
CREATED:20181128T151417Z
LAST-MODIFIED:20181130T162143Z
UID:15963-1544101200-1544108400@masshiremvcc.com
SUMMARY:Interviewing with Confidence
DESCRIPTION:Knowing how to prepare and present yourself confidently in an interview can make all the difference. Learn how!
URL:https://masshiremvcc.com/event/interviewing-with-confidence-5/
LOCATION:Lawrence Career Center\, 420 Common Street\, Lawrence\, MA\, 01840\, United States
CATEGORIES:Lawrence Center Event,Workshops
END:VEVENT
BEGIN:VEVENT
DTSTART;TZID=America/New_York:20181206T140000
DTEND;TZID=America/New_York:20181206T160000
DTSTAMP:20260420T040832
CREATED:20181128T152509Z
LAST-MODIFIED:20181130T162357Z
UID:15968-1544104800-1544112000@masshiremvcc.com
SUMMARY:Self-Paced Learning Services (SPLS)
DESCRIPTION:Want to learn at your own pace? Then this workshop is for you. We have various programs that are essential in today’s workplace. Learn a new language (Spanish or English)\, learn how to type\, learn how to type a resume\, practice HiSet (formally GED) or how to use Microsoft programs such as Word\, Excel\, PowerPoint\, QuickBooks\, Photoshop and much more. Ask the SPLS Monitor about the MS Certificate of Completion Program. \n 
URL:https://masshiremvcc.com/event/self-paced-learning-services-spls-3/
LOCATION:Lawrence Career Center\, 420 Common Street\, Lawrence\, MA\, 01840\, United States
CATEGORIES:Lawrence Center Event,Workshops
END:VEVENT
END:VCALENDAR