BEGIN:VCALENDAR
VERSION:2.0
PRODID:-//MassHire Merrimack Valley Career Center - ECPv6.15.20//NONSGML v1.0//EN
CALSCALE:GREGORIAN
METHOD:PUBLISH
X-ORIGINAL-URL:https://masshiremvcc.com
X-WR-CALDESC:Events for MassHire Merrimack Valley Career Center
REFRESH-INTERVAL;VALUE=DURATION:PT1H
X-Robots-Tag:noindex
X-PUBLISHED-TTL:PT1H
BEGIN:VTIMEZONE
TZID:America/New_York
BEGIN:DAYLIGHT
TZOFFSETFROM:-0500
TZOFFSETTO:-0400
TZNAME:EDT
DTSTART:20180311T070000
END:DAYLIGHT
BEGIN:STANDARD
TZOFFSETFROM:-0400
TZOFFSETTO:-0500
TZNAME:EST
DTSTART:20181104T060000
END:STANDARD
BEGIN:DAYLIGHT
TZOFFSETFROM:-0500
TZOFFSETTO:-0400
TZNAME:EDT
DTSTART:20190310T070000
END:DAYLIGHT
BEGIN:STANDARD
TZOFFSETFROM:-0400
TZOFFSETTO:-0500
TZNAME:EST
DTSTART:20191103T060000
END:STANDARD
BEGIN:DAYLIGHT
TZOFFSETFROM:-0500
TZOFFSETTO:-0400
TZNAME:EDT
DTSTART:20200308T070000
END:DAYLIGHT
BEGIN:STANDARD
TZOFFSETFROM:-0400
TZOFFSETTO:-0500
TZNAME:EST
DTSTART:20201101T060000
END:STANDARD
END:VTIMEZONE
BEGIN:VEVENT
DTSTART;TZID=America/New_York:20190111T100000
DTEND;TZID=America/New_York:20190111T120000
DTSTAMP:20260419T131722
CREATED:20181220T164144Z
LAST-MODIFIED:20181220T164144Z
UID:16247-1547200800-1547208000@masshiremvcc.com
SUMMARY:Mecanografía con Mavis Beacon (Typing with Mavis Beacon): Spanish
DESCRIPTION:Mecanografía con Mavis Beacon (Typing with Mavis Beacon): Llenando una aplicación por el internet o escribiendo un currículo se requiere habilidades de mecanografía y es esencial en la época de hoy. Aprenda o mejore sus habilidades de mecanografía con este programa.
URL:https://masshiremvcc.com/event/mecanografia-con-mavis-beacon-typing-with-mavis-beacon-spanish/
LOCATION:Lawrence Career Center\, 420 Common Street\, Lawrence\, MA\, 01840\, United States
CATEGORIES:Lawrence Center Event,Workshops
END:VEVENT
END:VCALENDAR