BEGIN:VCALENDAR
VERSION:2.0
PRODID:-//MassHire Merrimack Valley Career Center - ECPv6.15.20//NONSGML v1.0//EN
CALSCALE:GREGORIAN
METHOD:PUBLISH
X-ORIGINAL-URL:https://masshiremvcc.com
X-WR-CALDESC:Events for MassHire Merrimack Valley Career Center
REFRESH-INTERVAL;VALUE=DURATION:PT1H
X-Robots-Tag:noindex
X-PUBLISHED-TTL:PT1H
BEGIN:VTIMEZONE
TZID:America/New_York
BEGIN:DAYLIGHT
TZOFFSETFROM:-0500
TZOFFSETTO:-0400
TZNAME:EDT
DTSTART:20220313T070000
END:DAYLIGHT
BEGIN:STANDARD
TZOFFSETFROM:-0400
TZOFFSETTO:-0500
TZNAME:EST
DTSTART:20221106T060000
END:STANDARD
BEGIN:DAYLIGHT
TZOFFSETFROM:-0500
TZOFFSETTO:-0400
TZNAME:EDT
DTSTART:20230312T070000
END:DAYLIGHT
BEGIN:STANDARD
TZOFFSETFROM:-0400
TZOFFSETTO:-0500
TZNAME:EST
DTSTART:20231105T060000
END:STANDARD
BEGIN:DAYLIGHT
TZOFFSETFROM:-0500
TZOFFSETTO:-0400
TZNAME:EDT
DTSTART:20240310T070000
END:DAYLIGHT
BEGIN:STANDARD
TZOFFSETFROM:-0400
TZOFFSETTO:-0500
TZNAME:EST
DTSTART:20241103T060000
END:STANDARD
END:VTIMEZONE
BEGIN:VEVENT
DTSTART;TZID=America/New_York:20231117T083000
DTEND;TZID=America/New_York:20231117T100000
DTSTAMP:20260421T161247
CREATED:20231024T142653Z
LAST-MODIFIED:20231024T142653Z
UID:26062-1700209800-1700215200@masshiremvcc.com
SUMMARY:Virtual – Marketing Your Maturity
DESCRIPTION:Often older workers anticipate age bias and discrimination. This workshop focuses on three key components: the value older workers bring to any organization\, how to show that age-related stereotypes don’t describe you\, and strategies for addressing and overcoming age bias.
URL:https://masshiremvcc.com/event/virtual-marketing-your-maturity-19/
CATEGORIES:Workshops
END:VEVENT
BEGIN:VEVENT
DTSTART;TZID=America/New_York:20231103T133000
DTEND;TZID=America/New_York:20231103T150000
DTSTAMP:20260421T161247
CREATED:20231024T125005Z
LAST-MODIFIED:20231024T142832Z
UID:26034-1699018200-1699023600@masshiremvcc.com
SUMMARY:Virtual - Networking Strategies & Skills: Why\, Who\, and How
DESCRIPTION:Research consistently shows that 65-70% of jobs are found through networking. It’s a key strategy for everyone’s job search. Learn the value of networking\, who to network with\, and how to do it in an organized way. We will also focus on the power of a learning mindset to take advantage of in-the-moment\, spontaneous networking opportunities.
URL:https://masshiremvcc.com/event/virtual-networking-strategies-skills-why-who-and-how-16/
CATEGORIES:Workshops
END:VEVENT
END:VCALENDAR