BEGIN:VCALENDAR
VERSION:2.0
PRODID:-//MassHire Merrimack Valley Career Center - ECPv6.15.20//NONSGML v1.0//EN
CALSCALE:GREGORIAN
METHOD:PUBLISH
X-ORIGINAL-URL:https://masshiremvcc.com
X-WR-CALDESC:Events for MassHire Merrimack Valley Career Center
REFRESH-INTERVAL;VALUE=DURATION:PT1H
X-Robots-Tag:noindex
X-PUBLISHED-TTL:PT1H
BEGIN:VTIMEZONE
TZID:America/New_York
BEGIN:DAYLIGHT
TZOFFSETFROM:-0500
TZOFFSETTO:-0400
TZNAME:EDT
DTSTART:20240310T070000
END:DAYLIGHT
BEGIN:STANDARD
TZOFFSETFROM:-0400
TZOFFSETTO:-0500
TZNAME:EST
DTSTART:20241103T060000
END:STANDARD
BEGIN:DAYLIGHT
TZOFFSETFROM:-0500
TZOFFSETTO:-0400
TZNAME:EDT
DTSTART:20250309T070000
END:DAYLIGHT
BEGIN:STANDARD
TZOFFSETFROM:-0400
TZOFFSETTO:-0500
TZNAME:EST
DTSTART:20251102T060000
END:STANDARD
BEGIN:DAYLIGHT
TZOFFSETFROM:-0500
TZOFFSETTO:-0400
TZNAME:EDT
DTSTART:20260308T070000
END:DAYLIGHT
BEGIN:STANDARD
TZOFFSETFROM:-0400
TZOFFSETTO:-0500
TZNAME:EST
DTSTART:20261101T060000
END:STANDARD
END:VTIMEZONE
BEGIN:VEVENT
DTSTART;TZID=America/New_York:20251107T083000
DTEND;TZID=America/New_York:20251107T100000
DTSTAMP:20260419T155224
CREATED:20251023T141849Z
LAST-MODIFIED:20251023T141849Z
UID:27403-1762504200-1762509600@masshiremvcc.com
SUMMARY:Virtual - Interview Mastery 1 - Preparing for the Interview
DESCRIPTION:Your dream job is calling-are you ready to answer? In this session\, you’ll learn how to research employers\, anticipate common questions\, and present yourself with confidence\, rocking your answers\, and walking into any interview with unstoppable confidence. Show up ready to shine\, leave ready to win!
URL:https://masshiremvcc.com/event/virtual-interview-mastery-1-preparing-for-the-interview/
CATEGORIES:Workshops
END:VEVENT
BEGIN:VEVENT
DTSTART;TZID=America/New_York:20251107T103000
DTEND;TZID=America/New_York:20251107T120000
DTSTAMP:20260419T155224
CREATED:20251023T141933Z
LAST-MODIFIED:20251023T141933Z
UID:27404-1762511400-1762516800@masshiremvcc.com
SUMMARY:Virtual - Interview Mastery 2 - Interviewing with Confidence
DESCRIPTION:A comprehensive workshop designed to equip participants with the skills and strategies needed to excel in job interviews. This workshop covers every aspect of the interview process\, from compelling answers to common questions\, to mastering non-verbal communication and handling challenging scenarios with self-confidence. Learn to craft your answers in ways that highlight your skills and knowledge.
URL:https://masshiremvcc.com/event/virtual-interview-mastery-2-interviewing-with-confidence-4/
CATEGORIES:Workshops
END:VEVENT
END:VCALENDAR