BEGIN:VCALENDAR
VERSION:2.0
PRODID:-//MassHire Merrimack Valley Career Center - ECPv6.15.20//NONSGML v1.0//EN
CALSCALE:GREGORIAN
METHOD:PUBLISH
X-WR-CALNAME:MassHire Merrimack Valley Career Center
X-ORIGINAL-URL:https://masshiremvcc.com
X-WR-CALDESC:Events for MassHire Merrimack Valley Career Center
REFRESH-INTERVAL;VALUE=DURATION:PT1H
X-Robots-Tag:noindex
X-PUBLISHED-TTL:PT1H
BEGIN:VTIMEZONE
TZID:America/New_York
BEGIN:DAYLIGHT
TZOFFSETFROM:-0500
TZOFFSETTO:-0400
TZNAME:EDT
DTSTART:20240310T070000
END:DAYLIGHT
BEGIN:STANDARD
TZOFFSETFROM:-0400
TZOFFSETTO:-0500
TZNAME:EST
DTSTART:20241103T060000
END:STANDARD
BEGIN:DAYLIGHT
TZOFFSETFROM:-0500
TZOFFSETTO:-0400
TZNAME:EDT
DTSTART:20250309T070000
END:DAYLIGHT
BEGIN:STANDARD
TZOFFSETFROM:-0400
TZOFFSETTO:-0500
TZNAME:EST
DTSTART:20251102T060000
END:STANDARD
BEGIN:DAYLIGHT
TZOFFSETFROM:-0500
TZOFFSETTO:-0400
TZNAME:EDT
DTSTART:20260308T070000
END:DAYLIGHT
BEGIN:STANDARD
TZOFFSETFROM:-0400
TZOFFSETTO:-0500
TZNAME:EST
DTSTART:20261101T060000
END:STANDARD
END:VTIMEZONE
BEGIN:VEVENT
DTSTART;TZID=America/New_York:20251120T090000
DTEND;TZID=America/New_York:20251120T103000
DTSTAMP:20260421T204416
CREATED:20251023T141703Z
LAST-MODIFIED:20251030T154921Z
UID:27401-1763629200-1763634600@masshiremvcc.com
SUMMARY:Virtual - Networking Strategies
DESCRIPTION:Networking truly isn’t optional – it’s essential in today’s job market.  Did you know 65-70% of jobs are found through networking? Learn how to connect with the right people\, build your network strategically\, and use a growth mindset to spot and seize unexpected opportunities that can open doors to your next job.
URL:https://masshiremvcc.com/event/in-person-networking-strategies-3/
CATEGORIES:Workshops
END:VEVENT
BEGIN:VEVENT
DTSTART;TZID=America/New_York:20251120T133000
DTEND;TZID=America/New_York:20251120T150000
DTSTAMP:20260421T204416
CREATED:20251023T141805Z
LAST-MODIFIED:20251023T141805Z
UID:27402-1763645400-1763650800@masshiremvcc.com
SUMMARY:Virtual - Salary Negotiation
DESCRIPTION:Job offers are about more than just salary—they’re the whole package. Learn how to research your market worth\, handle salary questions in interviews\, juggle multiple offers\, and negotiate like a pro. This workshop gives you the tools to make smart\, confident decisions about your compensation.
URL:https://masshiremvcc.com/event/virtual-salary-negotiation-44/
CATEGORIES:Workshops
END:VEVENT
END:VCALENDAR